<?xml version="1.0" encoding="UTF-8"?>
<Capabilities xmlns="http://www.opengis.net/wmts/1.0"
xmlns:ows="http://www.opengis.net/ows/1.1"
xmlns:xlink="http://www.w3.org/1999/xlink"
xmlns:xsi="http://www.w3.org/2001/XMLSchema-instance"
xmlns:gml="http://www.opengis.net/gml"
xsi:schemaLocation="http://www.opengis.net/wmts/1.0 http://schemas.opengis.net/wmts/1.0/wmtsGetCapabilities_response.xsd"
version="1.0.0">
<!-- Service Identification --> <ows:ServiceIdentification>
<ows:Title>Hosted_land_use_and_land_cover</ows:Title>
<ows:ServiceType>OGC WMTS</ows:ServiceType>
<ows:ServiceTypeVersion>1.0.0</ows:ServiceTypeVersion>
</ows:ServiceIdentification> <!-- Operations Metadata --> <ows:OperationsMetadata>
<ows:Operation name="GetCapabilities">
<ows:DCP>
<ows:HTTP>
<ows:Get xlink:href="https://gisserver.mepa.gov.ge/arcgis/rest/services/Hosted/land_use_and_land_cover/MapServer/WMTS/1.0.0/WMTSCapabilities.xml">
<ows:Constraint name="GetEncoding">
<ows:AllowedValues>
<ows:Value>RESTful</ows:Value>
</ows:AllowedValues>
</ows:Constraint>
</ows:Get>
<!-- add KVP binding in 10.1 -->
<ows:Get xlink:href="https://gisserver.mepa.gov.ge/arcgis/rest/services/Hosted/land_use_and_land_cover/MapServer/WMTS?">
<ows:Constraint name="GetEncoding">
<ows:AllowedValues>
<ows:Value>KVP</ows:Value>
</ows:AllowedValues>
</ows:Constraint>
</ows:Get>
</ows:HTTP>
</ows:DCP>
</ows:Operation>
<ows:Operation name="GetTile">
<ows:DCP>
<ows:HTTP>
<ows:Get xlink:href="https://gisserver.mepa.gov.ge/arcgis/rest/services/Hosted/land_use_and_land_cover/MapServer/WMTS/tile/1.0.0/">
<ows:Constraint name="GetEncoding">
<ows:AllowedValues>
<ows:Value>RESTful</ows:Value>
</ows:AllowedValues>
</ows:Constraint>
</ows:Get>
<ows:Get xlink:href="https://gisserver.mepa.gov.ge/arcgis/rest/services/Hosted/land_use_and_land_cover/MapServer/WMTS?">
<ows:Constraint name="GetEncoding">
<ows:AllowedValues>
<ows:Value>KVP</ows:Value>
</ows:AllowedValues>
</ows:Constraint>
</ows:Get>
</ows:HTTP>
</ows:DCP>
</ows:Operation>
</ows:OperationsMetadata> <Contents>
<!--Layer--> <Layer>
<ows:Title>Hosted_land_use_and_land_cover</ows:Title> <ows:Identifier>Hosted_land_use_and_land_cover</ows:Identifier>
<ows:BoundingBox crs="urn:ogc:def:crs:EPSG::32638">
<ows:LowerCorner>211870.08279999997 4545887.535</ows:LowerCorner>
<ows:UpperCorner>644590.0949999997 4792589.101199999</ows:UpperCorner>
</ows:BoundingBox> <ows:WGS84BoundingBox crs="urn:ogc:def:crs:OGC:2:84">
<ows:LowerCorner>41.45184390328087 41.01327076853225</ows:LowerCorner>
<ows:UpperCorner>46.781798890830764 43.2861233153844</ows:UpperCorner>
</ows:WGS84BoundingBox>
<Style isDefault="true">
<ows:Title>Default Style</ows:Title>
<ows:Identifier>default</ows:Identifier>
</Style>
<Format>image/png</Format>
<TileMatrixSetLink>
<TileMatrixSet>default028mm</TileMatrixSet>
</TileMatrixSetLink>
<ResourceURL format="image/png" resourceType="tile" template="https://gisserver.mepa.gov.ge/arcgis/rest/services/Hosted/land_use_and_land_cover/MapServer/WMTS/tile/1.0.0/Hosted_land_use_and_land_cover/{Style}/{TileMatrixSet}/{TileMatrix}/{TileRow}/{TileCol}.png" />
</Layer> <!--TileMatrixSet-->
<TileMatrixSet>
<ows:Title>TileMatrix using 0.28mm</ows:Title>
<ows:Abstract>The tile matrix set that has scale values calculated based on the dpi defined by OGC specification (dpi assumes 0.28mm as the physical distance of a pixel).</ows:Abstract> <ows:Identifier>default028mm</ows:Identifier>
<ows:SupportedCRS>urn:ogc:def:crs:EPSG::32638</ows:SupportedCRS>
<TileMatrix>
<ows:Identifier>0</ows:Identifier>
<ScaleDenominator>2.7896104751722413E8</ScaleDenominator>
<TopLeftCorner>-9497963.94301857 9997963.94301857</TopLeftCorner> <TileWidth>256</TileWidth> <TileHeight>256</TileHeight>
<MatrixWidth>1</MatrixWidth> <MatrixHeight>1</MatrixHeight>
</TileMatrix>
<TileMatrix>
<ows:Identifier>1</ows:Identifier>
<ScaleDenominator>1.3948052375861207E8</ScaleDenominator>
<TopLeftCorner>-9497963.94301857 9997963.94301857</TopLeftCorner> <TileWidth>256</TileWidth> <TileHeight>256</TileHeight>
<MatrixWidth>2</MatrixWidth> <MatrixHeight>1</MatrixHeight>
</TileMatrix>
<TileMatrix>
<ows:Identifier>2</ows:Identifier>
<ScaleDenominator>6.974026187930603E7</ScaleDenominator>
<TopLeftCorner>-9497963.94301857 9997963.94301857</TopLeftCorner> <TileWidth>256</TileWidth> <TileHeight>256</TileHeight>
<MatrixWidth>3</MatrixWidth> <MatrixHeight>2</MatrixHeight>
</TileMatrix>
<TileMatrix>
<ows:Identifier>3</ows:Identifier>
<ScaleDenominator>3.487013093965302E7</ScaleDenominator>
<TopLeftCorner>-9497963.94301857 9997963.94301857</TopLeftCorner> <TileWidth>256</TileWidth> <TileHeight>256</TileHeight>
<MatrixWidth>5</MatrixWidth> <MatrixHeight>3</MatrixHeight>
</TileMatrix>
<TileMatrix>
<ows:Identifier>4</ows:Identifier>
<ScaleDenominator>1.743506546982651E7</ScaleDenominator>
<TopLeftCorner>-9497963.94301857 9997963.94301857</TopLeftCorner> <TileWidth>256</TileWidth> <TileHeight>256</TileHeight>
<MatrixWidth>9</MatrixWidth> <MatrixHeight>5</MatrixHeight>
</TileMatrix>
<TileMatrix>
<ows:Identifier>5</ows:Identifier>
<ScaleDenominator>8717532.734913254</ScaleDenominator>
<TopLeftCorner>-9497963.94301857 9997963.94301857</TopLeftCorner> <TileWidth>256</TileWidth> <TileHeight>256</TileHeight>
<MatrixWidth>17</MatrixWidth> <MatrixHeight>9</MatrixHeight>
</TileMatrix>
<TileMatrix>
<ows:Identifier>6</ows:Identifier>
<ScaleDenominator>4358766.367456627</ScaleDenominator>
<TopLeftCorner>-9497963.94301857 9997963.94301857</TopLeftCorner> <TileWidth>256</TileWidth> <TileHeight>256</TileHeight>
<MatrixWidth>33</MatrixWidth> <MatrixHeight>18</MatrixHeight>
</TileMatrix>
<TileMatrix>
<ows:Identifier>7</ows:Identifier>
<ScaleDenominator>2179383.1837283135</ScaleDenominator>
<TopLeftCorner>-9497963.94301857 9997963.94301857</TopLeftCorner> <TileWidth>256</TileWidth> <TileHeight>256</TileHeight>
<MatrixWidth>65</MatrixWidth> <MatrixHeight>35</MatrixHeight>
</TileMatrix>
<TileMatrix>
<ows:Identifier>8</ows:Identifier>
<ScaleDenominator>1089691.5918641568</ScaleDenominator>
<TopLeftCorner>-9497963.94301857 9997963.94301857</TopLeftCorner> <TileWidth>256</TileWidth> <TileHeight>256</TileHeight>
<MatrixWidth>130</MatrixWidth> <MatrixHeight>70</MatrixHeight>
</TileMatrix>
<TileMatrix>
<ows:Identifier>9</ows:Identifier>
<ScaleDenominator>544845.7959320784</ScaleDenominator>
<TopLeftCorner>-9497963.94301857 9997963.94301857</TopLeftCorner> <TileWidth>256</TileWidth> <TileHeight>256</TileHeight>
<MatrixWidth>260</MatrixWidth> <MatrixHeight>140</MatrixHeight>
</TileMatrix>
<TileMatrix>
<ows:Identifier>10</ows:Identifier>
<ScaleDenominator>272422.8979660392</ScaleDenominator>
<TopLeftCorner>-9497963.94301857 9997963.94301857</TopLeftCorner> <TileWidth>256</TileWidth> <TileHeight>256</TileHeight>
<MatrixWidth>520</MatrixWidth> <MatrixHeight>280</MatrixHeight>
</TileMatrix>
<TileMatrix>
<ows:Identifier>11</ows:Identifier>
<ScaleDenominator>136211.4489830196</ScaleDenominator>
<TopLeftCorner>-9497963.94301857 9997963.94301857</TopLeftCorner> <TileWidth>256</TileWidth> <TileHeight>256</TileHeight>
<MatrixWidth>1039</MatrixWidth> <MatrixHeight>559</MatrixHeight>
</TileMatrix>
<TileMatrix>
<ows:Identifier>12</ows:Identifier>
<ScaleDenominator>68105.7244915098</ScaleDenominator>
<TopLeftCorner>-9497963.94301857 9997963.94301857</TopLeftCorner> <TileWidth>256</TileWidth> <TileHeight>256</TileHeight>
<MatrixWidth>2078</MatrixWidth> <MatrixHeight>1117</MatrixHeight>
</TileMatrix>
<TileMatrix>
<ows:Identifier>13</ows:Identifier>
<ScaleDenominator>34052.8622457549</ScaleDenominator>
<TopLeftCorner>-9497963.94301857 9997963.94301857</TopLeftCorner> <TileWidth>256</TileWidth> <TileHeight>256</TileHeight>
<MatrixWidth>4156</MatrixWidth> <MatrixHeight>2234</MatrixHeight>
</TileMatrix>
<TileMatrix>
<ows:Identifier>14</ows:Identifier>
<ScaleDenominator>17026.43112287745</ScaleDenominator>
<TopLeftCorner>-9497963.94301857 9997963.94301857</TopLeftCorner> <TileWidth>256</TileWidth> <TileHeight>256</TileHeight>
<MatrixWidth>8311</MatrixWidth> <MatrixHeight>4468</MatrixHeight>
</TileMatrix>
<TileMatrix>
<ows:Identifier>15</ows:Identifier>
<ScaleDenominator>8513.215561438725</ScaleDenominator>
<TopLeftCorner>-9497963.94301857 9997963.94301857</TopLeftCorner> <TileWidth>256</TileWidth> <TileHeight>256</TileHeight>
<MatrixWidth>16621</MatrixWidth> <MatrixHeight>8935</MatrixHeight>
</TileMatrix>
<TileMatrix>
<ows:Identifier>16</ows:Identifier>
<ScaleDenominator>4256.607780719362</ScaleDenominator>
<TopLeftCorner>-9497963.94301857 9997963.94301857</TopLeftCorner> <TileWidth>256</TileWidth> <TileHeight>256</TileHeight>
<MatrixWidth>33242</MatrixWidth> <MatrixHeight>17870</MatrixHeight>
</TileMatrix>
<TileMatrix>
<ows:Identifier>17</ows:Identifier>
<ScaleDenominator>2128.303890359681</ScaleDenominator>
<TopLeftCorner>-9497963.94301857 9997963.94301857</TopLeftCorner> <TileWidth>256</TileWidth> <TileHeight>256</TileHeight>
<MatrixWidth>66484</MatrixWidth> <MatrixHeight>35739</MatrixHeight>
</TileMatrix>
<TileMatrix>
<ows:Identifier>18</ows:Identifier>
<ScaleDenominator>1064.1519451798406</ScaleDenominator>
<TopLeftCorner>-9497963.94301857 9997963.94301857</TopLeftCorner> <TileWidth>256</TileWidth> <TileHeight>256</TileHeight>
<MatrixWidth>132968</MatrixWidth> <MatrixHeight>71477</MatrixHeight>
</TileMatrix>
<TileMatrix>
<ows:Identifier>19</ows:Identifier>
<ScaleDenominator>532.0759725899203</ScaleDenominator>
<TopLeftCorner>-9497963.94301857 9997963.94301857</TopLeftCorner> <TileWidth>256</TileWidth> <TileHeight>256</TileHeight>
<MatrixWidth>265936</MatrixWidth> <MatrixHeight>142953</MatrixHeight>
</TileMatrix>
<TileMatrix>
<ows:Identifier>20</ows:Identifier>
<ScaleDenominator>266.03798629496015</ScaleDenominator>
<TopLeftCorner>-9497963.94301857 9997963.94301857</TopLeftCorner> <TileWidth>256</TileWidth> <TileHeight>256</TileHeight>
<MatrixWidth>531871</MatrixWidth> <MatrixHeight>285905</MatrixHeight>
</TileMatrix>
<TileMatrix>
<ows:Identifier>21</ows:Identifier>
<ScaleDenominator>133.01899314748007</ScaleDenominator>
<TopLeftCorner>-9497963.94301857 9997963.94301857</TopLeftCorner> <TileWidth>256</TileWidth> <TileHeight>256</TileHeight>
<MatrixWidth>1063741</MatrixWidth> <MatrixHeight>571809</MatrixHeight>
</TileMatrix>
<TileMatrix>
<ows:Identifier>22</ows:Identifier>
<ScaleDenominator>66.50949657374004</ScaleDenominator>
<TopLeftCorner>-9497963.94301857 9997963.94301857</TopLeftCorner> <TileWidth>256</TileWidth> <TileHeight>256</TileHeight>
<MatrixWidth>2127481</MatrixWidth> <MatrixHeight>1143617</MatrixHeight>
</TileMatrix>
<TileMatrix>
<ows:Identifier>23</ows:Identifier>
<ScaleDenominator>33.25474828687002</ScaleDenominator>
<TopLeftCorner>-9497963.94301857 9997963.94301857</TopLeftCorner> <TileWidth>256</TileWidth> <TileHeight>256</TileHeight>
<MatrixWidth>4254962</MatrixWidth> <MatrixHeight>2287233</MatrixHeight>
</TileMatrix>
</TileMatrixSet>
</Contents>
<ServiceMetadataURL xlink:href="https://gisserver.mepa.gov.ge/arcgis/rest/services/Hosted/land_use_and_land_cover/MapServer/WMTS/1.0.0/WMTSCapabilities.xml" /> </Capabilities>
