View In:
ArcGIS JavaScript
ArcGIS Online Map Viewer
ArcGIS Earth
Service Description: ORTHO_Service/zestaponi_tif
Name: ORTHO_Service/zestaponi_tif
Description:
Single Fused Map Cache: true
Tile Info:
- Height: 256
- Width: 256
- DPI: 96
-
Levels of Detail: 12
- Format: PNG
- Compression Quality: 0.0
- LERC Error: NaN
- Origin: X: -5120900.0
Y: 9998100.0
- Spatial Reference: 32638
(32638)
LatestVCSWkid(0)
Storage Info:
- Storage Format: esriMapCacheStorageModeCompactV2
- Packet Size: 128
Extent:
XMin: 316990.3900000006
YMin: 4654960.754999997
XMax: 345113.5900000006
YMax: 4673944.1549999975
Spatial Reference: 32638
(32638)
LatestVCSWkid(0)
Initial Extent:
XMin: 316990.3900000006
YMin: 4654960.754999997
XMax: 345113.5900000006
YMax: 4673944.1549999975
Spatial Reference: 32638
(32638)
LatestVCSWkid(0)
Full Extent:
XMin: 316990.3900000006
YMin: 4654960.754999997
XMax: 345113.5900000006
YMax: 4673944.1549999975
Spatial Reference: 32638
(32638)
LatestVCSWkid(0)
Pixel Size X: 0.2000000000000001
Pixel Size Y: 0.20000000000000392
Band Count: 4
Pixel Type: U8
RasterFunction Infos: {"rasterFunctionInfos": [{
"name": "None",
"description": "",
"help": ""
}]}
Mensuration Capabilities: Basic
Inspection Capabilities:
Has Histograms: true
Has Colormap: false
Has Multi Dimensions : false
Rendering Rule:
Min Scale: 0
Max Scale: 0
Resampling: false
Copyright Text:
Service Data Type: esriImageServiceDataTypeGeneric
Min Values: 3, 20, 22, 255
Max Values: 255, 255, 255, 255
Mean Values: 74.95238037592, 97.091525207846, 105.32680104564, 255
Standard Deviation Values: 35.680480529469, 29.539977283818, 23.143774991001, 0
Object ID Field:
Fields:
None
Default Mosaic Method: Center
Allowed Mosaic Methods:
SortField:
SortValue: null
Mosaic Operator: First
Default Compression Quality: 75
Default Resampling Method: Bilinear
Max Record Count: null
Max Image Height: 4100
Max Image Width: 15000
Max Download Image Count: null
Max Mosaic Image Count: null
Allow Raster Function: true
Allow Copy: true
Allow Analysis: true
Allow Compute TiePoints: false
Supports Statistics: false
Supports Advanced Queries: false
Use StandardizedQueries: true
Raster Type Infos:
Name: Raster Dataset
Description: Supports all ArcGIS Raster Datasets
Help:
Has Raster Attribute Table: false
Edit Fields Info: null
Ownership Based AccessControl For Rasters: null
Child Resources:
Info
Histograms
Statistics
Key Properties
Legend
Raster Function Infos
Supported Operations:
Export Image
Identify
Measure
Compute Histograms
Compute Statistics Histograms
Get Samples
Compute Class Statistics
Query Boundary
Compute Pixel Location
Compute Angles
Validate
Project